BEGIN:VCALENDAR
VERSION:2.0
PRODID:-//Squarespace Inc/Squarespace 6//v6//EN
BEGIN:VEVENT
UID:5fbcf9f145ca4f790265e652@squarespace.com
DTSTAMP:20210201T062306Z
DTSTART:20210410T140000Z
DTEND:20210924T140000Z
SUMMARY:Online Certificate Course
GEO:-27.535027;153.025999
LOCATION:Dalcroze Australia\, Australia
END:VEVENT
END:VCALENDAR
